BEGIN:VCALENDAR
VERSION:2.0
PRODID:-//hacksw/handcal//NONSGML v1.0//EN
BEGIN:VEVENT
SUMMARY:DMU18 vs MONCOUTANT SPORT ATHLETIQUE - J20
UID:14f5aa8b-4b53-40f6-b075-ea58f5e699fb
DTSTART:20260523T170000Z
DTEND:20260523T190000Z
LOCATION:Salle TARTALIN chemin de la vieille chevre 79230 aiffres
CATEGORIES:Sportif
STATUS:
URL;VALUE=URI:https://www.basket-aiffres.fr/evenements/2026/05/23/dmu18-vs-moncoutant-sport-athletique-j20-2380089
END:VEVENT
END:VCALENDAR
